BEGIN:VCALENDAR
VERSION:2.0
PRODID:-//ChamberMaster//Event Calendar 2.0//EN
METHOD:PUBLISH
X-PUBLISHED-TTL:P3D
REFRESH-INTERVAL:P3D
CALSCALE:GREGORIAN
BEGIN:VEVENT
DTSTART;VALUE=DATE:20180601
DTEND;VALUE=DATE:20180603
TRANSP:TRANSPARENT
X-MICROSOFT-CDO-ALLDAYEVENT:TRUE
SUMMARY:Windsor All Town Garage Sale
DESCRIPTION:Is your basement filled to the ceiling. Spring is here so clean out those junk rooms and try to sell at the Windsor All Town Garage Sale.
X-ALT-DESC;FMTTYPE=text/html:Is your basement filled to the ceiling. Spring is here so clean out those junk rooms and try to sell at the Windsor All Town Garage Sale.
LOCATION:All Over Windsor
UID:e.2900.462
SEQUENCE:3
DTSTAMP:20260424T080031Z
URL:https://business.windsorchamber.net/events/details/windsor-all-town-garage-sale-462
END:VEVENT

END:VCALENDAR
