BEGIN:VCALENDAR
VERSION:2.0
PRODID:-//ChamberMaster//Event Calendar 2.0//EN
METHOD:PUBLISH
X-PUBLISHED-TTL:P3D
REFRESH-INTERVAL:P3D
CALSCALE:GREGORIAN
BEGIN:VEVENT
DTSTART:20180607T230000Z
DTEND:20180608T013000Z
X-MICROSOFT-CDO-ALLDAYEVENT:FALSE
SUMMARY:Windsor Chamber ALL TOWN BBQ
DESCRIPTION:The Windsor Chamber of Commerce will be holding the Windsor Chamber Annual BBQ.  Hamburgers\, hot dogs\, chips\, cookies\, pop will be served FREE.
X-ALT-DESC;FMTTYPE=text/html:The Windsor Chamber of Commerce will be holding the Windsor Chamber Annual BBQ.&nbsp\; Hamburgers\, hot dogs\, chips\, cookies\, pop will be served FREE.
LOCATION:Boardwalk Park -
UID:e.2900.365
SEQUENCE:3
DTSTAMP:20260424T064043Z
URL:https://business.windsorchamber.net/events/details/windsor-chamber-all-town-bbq-365
END:VEVENT

END:VCALENDAR
