BEGIN:VCALENDAR
VERSION:2.0
PRODID:-//ChamberMaster//Event Calendar 2.0//EN
METHOD:PUBLISH
X-PUBLISHED-TTL:P3D
REFRESH-INTERVAL:P3D
CALSCALE:GREGORIAN
BEGIN:VEVENT
DTSTART:20190205T190000Z
DTEND:20190205T200000Z
X-MICROSOFT-CDO-ALLDAYEVENT:FALSE
SUMMARY:Windsor Chamber Ambassador Meeting
DESCRIPTION:Ambassador Monthly Meeting - The Windsor Chamber of Commerce Ambassador Members are an important part of our Chamber.  They serve as greeters for our special events\, and Business After Hours and Networking at Noon.\n\nThis gives them an opportunity to meet other members and learnabout the different kinds of businesses in Windsor as well as them telling members about their business.
X-ALT-DESC;FMTTYPE=text/html:<p>Ambassador Monthly Meeting - The Windsor Chamber of Commerce Ambassador Members are an important part of our Chamber.&nbsp\; They serve as greeters for our special events\, and Business After Hours and Networking at Noon.<br />\nThis gives them an opportunity to meet other members and learnabout the different kinds of businesses in Windsor as well as them telling members about their business.<br />\n&nbsp\;</p>\n
LOCATION:This month we will meet at KUM & GO - 375 E. MAIN STREET.
UID:e.2900.1548
SEQUENCE:3
DTSTAMP:20260423T204547Z
URL:https://business.windsorchamber.net/events/details/windsor-chamber-ambassador-meeting-1548
END:VEVENT

END:VCALENDAR
