BEGIN:VCALENDAR
VERSION:2.0
PRODID:-//ChamberMaster//Event Calendar 2.0//EN
METHOD:PUBLISH
X-PUBLISHED-TTL:P3D
REFRESH-INTERVAL:P3D
CALSCALE:GREGORIAN
BEGIN:VEVENT
DTSTART:20190923T180000Z
DTEND:20190924T000000Z
X-MICROSOFT-CDO-ALLDAYEVENT:FALSE
SUMMARY:Windsor Chamber Golf Tournament
DESCRIPTION:The annual Tournament is a perfect opportunity to showcase Windsor while playing at Highland Meadows.\n\n\n\nHighland Meadows Golf Course is not your run of the mill golf course. Featuring a tremendous 18 Hole layout\, breathtaking scenery\, and links-inspired pot bunkers\, this course is as magnificent as it is challenging. Highland Meadows is one of the most widely acclaimed golf courses in Colorado. \n\n\n\nDownload our event brochure (PDF).\n\n\n\nConnect with the local business community while enjoying a stunning Monday after noon tournament featuring:\n\n\n	Hole in One Car*\n	Women's & Men's Longest Drive\n	Closest to the Pin\n	Fun contests along the course\n	Supporting a local charity with a portion of the proceeds\n	More details coming soon.\n\n\n*Awaiting confirmation\n\nFOURSOME $500\n\n\n	Includes golf for four (4) players\n	GPS cart\, club assistance upon arrival\n	Opportunities to participate in course games\n	Ability to win 1st\, 2nd or 3rd place in the tournament\n	Enjoy fun games throughout the course\n\n\n\n\nSponsorship Options\n\nTitle Sponsorship $5000\n\n\n	Three (3) foursomes\n	Logo present in all marketing as Title Sponsor. ?Your Company Name? Annual Windsor Chamber Charity Golf Tournament\n	Banner in a prominent location your company listed as Title Sponsor\n	Company sponsorship featured in at least 5 Facebook ads\n	12 additional tickets to awards dinner for non-players\n	12 additional tickets to awards dinner for non-players\n	12 drink tickets for use on the course\n	Opportunity to speak during the Award Dinner\n	One (1) hole sponsorship and a tournament game (your staff on the hole)\n	Tournament video featuring your company as the Title Sponsor\n	Hole in One car or other significant valued item sponsored by your company\n	Custom ad designed for you to showcase your sponsorship in the tournament\n	First right of refusal for the 2020 tournament\n\n\nPlatinum Sponsor $2500\n\n\n	Two (2) foursomes\n	Logo present in all marketing as Platinum sponsor\n	Logo included on event tournament banner\n	One (1) hole sponsorship and a tournament game (your staff on the hole)\n	Opportunity to present a tournament award\n	8 tickets to awards dinner for non-players\n\n\nGold Sponsor $2000\n\n\n	One (1) foursome\n	One (1) hole sponsorship and a tournament game (your staff on the hole)\n	Or select two (2) foursomes and eliminate the hole sponsorship.\n	Logo present in all marketing as Gold sponsor\n	4 tickets to awards dinner \n\n\nDinner Sponsor $1500\n\n\n	One (1) foursome\n	Logo present in all marketing as Dinner sponsor\n	Opportunity to speak during the dinner awards\n\n\nAwards Sponsor $1750\n\n\n	One (1) foursome\n	Logo present in all marketing as Awards sponsor\n	Opportunity to speak during the dinner awards\n\n\nDriving Range Sponsor $1000 ($500 no foursome)\n\n\n	One (1) foursome\n	Logo present in all marketing as Volunteer sponsor\n	One (1) sign indicating support\n\n\nCopper Sponsor $750\n\n\n	One (1) foursome\n	Logo present in all marketing as Copper sponsor\n\n\nHole Sponsor $250 (signage only)\n\n\n	One (1) sign indicating support\n	Listed as hole sponsors in all appropriate marketing\n\n\nHole Sponsor with Staff on the Green $350\n\n\n	One (1) sign indicating support\n	Listed in all marketing as hole sponsor\n	Opportunity to have staff on the hole with give-a-ways or drinks\n\nPutting Green Sponsor $500\n\n\n	One (1) sign indicating support.\n	Listed in all marketing as Putting Green Sponsor.\n\n\nBeverage Cart Sponsor $500\n\n\n	One (1) sign indicating support.\n	Listed in all marketing as Beverage Cart Sponsor.
X-ALT-DESC;FMTTYPE=text/html:<p>The annual Tournament is a perfect opportunity to showcase Windsor while playing at Highland Meadows.<br />\n<br />\nHighland Meadows Golf Course is not your run of the mill golf course. Featuring a tremendous 18 Hole layout\, breathtaking scenery\, and links-inspired pot bunkers\, this course is as magnificent as it is challenging. Highland Meadows is one of the most widely acclaimed golf courses in Colorado.&nbsp\;<br />\n<br />\nDownload our event brochure (<a href="https://chambermaster.blob.core.windows.net/userfiles/UserFiles/chambers/2900/File/2019-windsor-chamber-tournamen-brochure.pdf">PDF</a>).<br />\n<br />\nConnect with the local business community while enjoying a stunning Monday after noon tournament featuring:</p>\n\n<ul>\n	<li>Hole in One Car*</li>\n	<li>Women&#39\;s &amp\; Men&#39\;s Longest Drive</li>\n	<li>Closest to the Pin</li>\n	<li>Fun contests along the course</li>\n	<li>Supporting a local charity with a portion of the proceeds</li>\n	<li>More details coming soon.</li>\n</ul>\n\n<p><em>*Awaiting confirmation</em></p>\n\n<p><span style="color:#FFFFFF\;"><span style="background-color:#008000\;">FOURSOME $500</span></span></p>\n\n<ul>\n	<li>Includes golf for four (4) players</li>\n	<li>GPS cart\, club assistance&nbsp\;upon arrival</li>\n	<li>Opportunities to participate in course games</li>\n	<li>Ability to win 1st\, 2nd or 3rd place in the tournament</li>\n	<li>Enjoy fun games throughout the course</li>\n</ul>\n\n<p><br />\n<span style="color:#FFFFFF\;"><strong><span style="background-color:#008000\;">Sponsorship Options</span></strong></span></p>\n\n<p><strong>Title Sponsorship $5000</strong></p>\n\n<ul>\n	<li>Three (3) foursomes</li>\n	<li>Logo present in all marketing as Title Sponsor. ?Your Company Name? Annual Windsor Chamber Charity Golf Tournament</li>\n	<li>Banner in a prominent location your company listed as Title Sponsor</li>\n	<li>Company sponsorship featured in at least 5 Facebook ads</li>\n	<li>12 additional tickets to awards dinner for non-players</li>\n	<li>12 additional tickets to awards dinner for non-players</li>\n	<li>12 drink tickets for use on the course</li>\n	<li>Opportunity to speak during the Award Dinner</li>\n	<li>One (1) hole sponsorship and a tournament game (your staff on the hole)</li>\n	<li>Tournament video featuring your company as the Title Sponsor</li>\n	<li>Hole in One car or other significant valued item sponsored by your company</li>\n	<li>Custom ad designed for you to showcase your sponsorship in the tournament</li>\n	<li>First right of refusal for the 2020 tournament</li>\n</ul>\n\n<p><strong>Platinum Sponsor $2500</strong></p>\n\n<ul>\n	<li>Two (2) foursomes</li>\n	<li>Logo present in all marketing as Platinum sponsor</li>\n	<li>Logo included on event tournament banner</li>\n	<li>One (1) hole sponsorship and a tournament game (your staff on the hole)</li>\n	<li>Opportunity to present a tournament award</li>\n	<li>8 tickets to awards dinner for non-players</li>\n</ul>\n\n<p><strong>Gold Sponsor $2000</strong></p>\n\n<ul>\n	<li>One (1) foursome</li>\n	<li>One (1) hole sponsorship and a tournament game (your staff on the hole)</li>\n	<li>Or select two (2) foursomes and eliminate the hole sponsorship.</li>\n	<li>Logo present in all marketing as Gold sponsor</li>\n	<li>4 tickets to awards dinner&nbsp\;</li>\n</ul>\n\n<p><strong>Dinner Sponsor $1500</strong></p>\n\n<ul>\n	<li>One (1) foursome</li>\n	<li>Logo present in all marketing as Dinner sponsor</li>\n	<li>Opportunity to speak during the dinner awards</li>\n</ul>\n\n<p><strong>Awards Sponsor $1750</strong></p>\n\n<ul>\n	<li>One (1) foursome</li>\n	<li>Logo present in all marketing as Awards sponsor</li>\n	<li>Opportunity to speak during the dinner awards</li>\n</ul>\n\n<p><strong>Driving Range Sponsor $1000 </strong><em>($500 no foursome)</em></p>\n\n<ul>\n	<li>One (1) foursome</li>\n	<li>Logo present in all marketing as Volunteer sponsor</li>\n	<li>One (1) sign indicating support</li>\n</ul>\n\n<p><strong>Copper Sponsor $750</strong></p>\n\n<ul>\n	<li>One (1) foursome</li>\n	<li>Logo present in all marketing as Copper sponsor</li>\n</ul>\n\n<p><strong>Hole Sponsor $250</strong> (signage only)</p>\n\n<ul>\n	<li>One (1) sign indicating support</li>\n	<li>Listed as hole sponsors in all appropriate marketing</li>\n</ul>\n\n<p><strong>Hole Sponsor with Staff on the Green $350</strong></p>\n\n<ul>\n	<li>One (1) sign indicating support</li>\n	<li>Listed in all marketing as hole sponsor</li>\n	<li>Opportunity to have staff on the hole with give-a-ways or drinks</li>\n</ul>\n<strong>Putting Green Sponsor $500</strong>\n\n<ul>\n	<li>One (1) sign indicating support.</li>\n	<li>Listed in all marketing as Putting Green Sponsor.</li>\n</ul>\n\n<p><strong>Beverage Cart Sponsor $500</strong></p>\n\n<ul>\n	<li>One (1) sign indicating support.</li>\n	<li>Listed in all marketing as Beverage Cart Sponsor.</li>\n</ul>\n
LOCATION:Highland Meadows Golf Course
UID:e.2900.1545
SEQUENCE:3
DTSTAMP:20260421T091645Z
URL:https://business.windsorchamber.net/events/details/windsor-chamber-golf-tournament-1545
END:VEVENT

END:VCALENDAR
