BEGIN:VCALENDAR
VERSION:2.0
PRODID:-//ChamberMaster//Event Calendar 2.0//EN
METHOD:PUBLISH
X-PUBLISHED-TTL:P3D
REFRESH-INTERVAL:P3D
CALSCALE:GREGORIAN
BEGIN:VEVENT
DTSTART:20170720T233000Z
DTEND:20170721T023000Z
X-MICROSOFT-CDO-ALLDAYEVENT:FALSE
SUMMARY:Windsor Farmers Market
DESCRIPTION:Farmers Market vendors will provide items such as * Produce (fruits\, vegetables\, herbs) * Meats* Dairy * Baked Goods * Bath and Body products * Artisan crafts * Much More!
X-ALT-DESC;FMTTYPE=text/html:Farmers Market vendors will provide items such as * Produce (fruits\, vegetables\, herbs) * Meats* Dairy * Baked Goods * Bath and Body products * Artisan crafts * Much More!
LOCATION:Boardwalk Park - 100 N. 5th Street
UID:e.2900.74
SEQUENCE:3
DTSTAMP:20260424T235544Z
URL:https://business.windsorchamber.net/events/details/windsor-farmers-market-74
END:VEVENT

END:VCALENDAR
