BEGIN:VCALENDAR
VERSION:2.0
PRODID:-//ChamberMaster//Event Calendar 2.0//EN
METHOD:PUBLISH
X-PUBLISHED-TTL:P3D
REFRESH-INTERVAL:P3D
CALSCALE:GREGORIAN
BEGIN:VEVENT
DTSTART;VALUE=DATE:20230614
DTEND;VALUE=DATE:20230629
TRANSP:TRANSPARENT
X-MICROSOFT-CDO-ALLDAYEVENT:TRUE
SUMMARY:Windsor Gives Online Fundraiser
DESCRIPTION:https://www.onehopewine.com/event/147445?fbclid=IwAR0g_s8heQu_0JF115c45KAoBU1uY0gJ7WTMxUgrp4gnRXDU9f28BMUNCys\n\n\n\nSupport Windsor Gives through your wine purchases from One Hope Wine!\n\n\n\nMade with love from California's finest grape growing regions\, our wines give hope to the people and causes that matter most to you. With 10% of your purchase donated from every bottle\, we are nourishing the future for generations to come.
X-ALT-DESC;FMTTYPE=text/html:<a href="http://Made with love from California?s finest grape growing regions\, our wines give hope to the people and causes that matter most to you. With 10% of your purchase donated from every bottle\, we are nourishing the future for generations to come.">https://www.onehopewine.com/event/147445?fbclid=IwAR0g_s8heQu_0JF115c45KAoBU1uY0gJ7WTMxUgrp4gnRXDU9f28BMUNCys</a><br />\n<br />\nSupport Windsor Gives through your wine purchases from One Hope Wine!<br />\n<br />\n<span style="background-color:rgb(250\, 246\, 243)\; color:rgb(55\, 54\, 52)\; font-family:brandon-grotesque\,arial\,sans-serif\; font-size:22px">Made with love from California&rsquo\;s finest grape growing regions\, our wines give hope to the people and causes that matter most to you. With 10% of your purchase donated from every bottle\, we are nourishing the future for generations to come.</span>
LOCATION:Online Event
UID:e.2900.9905
SEQUENCE:3
DTSTAMP:20260420T183937Z
URL:https://business.windsorchamber.net/events/details/windsor-gives-online-fundraiser-9905
END:VEVENT

END:VCALENDAR
