BEGIN:VCALENDAR
VERSION:2.0
PRODID:-//ChamberMaster//Event Calendar 2.0//EN
METHOD:PUBLISH
X-PUBLISHED-TTL:P3D
REFRESH-INTERVAL:P3D
CALSCALE:GREGORIAN
BEGIN:VEVENT
DTSTART:20170623T190000Z
DTEND:20170623T210000Z
X-MICROSOFT-CDO-ALLDAYEVENT:FALSE
SUMMARY:Windsor Grind- Skateboard and Scooter Competition
DESCRIPTION:Join us at Eastman Skate Park for an old fashioned skate contest! This year we will also have a scooter contest! No entry fee\; food\, music\, and\, of course\, skating! Please note that the Scooter Competition is for ages 9-12\, and the Skateboard Competition is for ages 12-18. Registration required if you are participating in the competition. Please indicate if you will be participating in either the scooter or skateboard competition. Additionally\, please note that the Liability Waiver must be filled out and submitted by June 19th in order to participate in this event. Please contact Brittany for more information at brittany@clearviewlibrary.org.
X-ALT-DESC;FMTTYPE=text/html:Join us at Eastman Skate Park for an old fashioned skate contest! This year we will also have a scooter contest! No entry fee\; food\, music\, and\, of course\, skating! Please note that the Scooter Competition is for ages 9-12\, and the Skateboard Competition is for ages 12-18. Registration required if you are participating in the competition. Please indicate if you will be participating in either the scooter or skateboard competition. Additionally\, please note that the Liability Waiver must be filled out and submitted by June 19th in order to participate in this event. Please contact Brittany for more information at brittany@clearviewlibrary.org.
LOCATION:Eastman Park\, 7025 Eastman Park Drive\, Windsor\, CO 80550
UID:e.2900.60
SEQUENCE:3
DTSTAMP:20260425T004656Z
URL:https://business.windsorchamber.net/events/details/windsor-grind-skateboard-and-scooter-competition-60
END:VEVENT

END:VCALENDAR
