BEGIN:VCALENDAR
VERSION:2.0
PRODID:-//ChamberMaster//Event Calendar 2.0//EN
METHOD:PUBLISH
X-PUBLISHED-TTL:P3D
REFRESH-INTERVAL:P3D
CALSCALE:GREGORIAN
BEGIN:VEVENT
DTSTART:20181027T190000Z
DTEND:20181027T210000Z
X-MICROSOFT-CDO-ALLDAYEVENT:FALSE
SUMMARY:Windsor Halloween Trick or Treating
DESCRIPTION:Windsor Chamber Halloween Trick or Treating .The Windsor Businesses will be invaded by all of our\n\nlittle children with Halloween costumes .  Last year we had 1500 children.   Fun FAMILY EVENT!\n\nIf your place of business is not in the downtown area\, you are more than welcome to put your table up in front of our Windsor Chamber. If you plan on holding special events\, please let us know so we can let everyone know.
X-ALT-DESC;FMTTYPE=text/html:Windsor Chamber Halloween Trick or Treating .The Windsor Businesses will be invaded by all of our<br />\nlittle children with Halloween costumes .&nbsp\; Last year we had 1500 children.&nbsp\;&nbsp\; Fun FAMILY EVENT!<br />\nIf your place of business is not in the downtown area\, you are more than welcome to put your table up in front of our Windsor Chamber. If you plan on holding special events\, please let us know so we can let everyone know.
LOCATION:Through out Windsor
UID:e.2900.1517
SEQUENCE:3
DTSTAMP:20260424T013015Z
URL:https://business.windsorchamber.net/events/details/windsor-halloween-trick-or-treating-1517
END:VEVENT

END:VCALENDAR
