BEGIN:VCALENDAR
VERSION:2.0
PRODID:-//ChamberMaster//Event Calendar 2.0//EN
METHOD:PUBLISH
X-PUBLISHED-TTL:P3D
REFRESH-INTERVAL:P3D
CALSCALE:GREGORIAN
BEGIN:VEVENT
DTSTART:20170904T150000Z
DTEND:20170904T170000Z
X-MICROSOFT-CDO-ALLDAYEVENT:FALSE
SUMMARY:Windsor Harvest Festival Parade- Chamber Office CLOSED
DESCRIPTION:Windsor Harvest Festival Parade - Chamber office CLOSED
X-ALT-DESC;FMTTYPE=text/html:Windsor Harvest Festival Parade - Chamber office CLOSED
LOCATION:West on Walnut Street to 7th\, then South on 7th to Eastman Park
UID:e.2900.87
SEQUENCE:3
DTSTAMP:20260424T203518Z
URL:https://business.windsorchamber.net/events/details/windsor-harvest-festival-parade-chamber-office-closed-87
END:VEVENT

END:VCALENDAR
