BEGIN:VCALENDAR
VERSION:2.0
PRODID:-//ChamberMaster//Event Calendar 2.0//EN
METHOD:PUBLISH
X-PUBLISHED-TTL:P3D
REFRESH-INTERVAL:P3D
CALSCALE:GREGORIAN
BEGIN:VEVENT
DTSTART:20190305T170000Z
DTEND:20190305T173000Z
X-MICROSOFT-CDO-ALLDAYEVENT:FALSE
SUMMARY:Windsor Lucky 27 Barbershop Ribbon Cutting
DESCRIPTION:Please attend a RIBBON CUTTING  for Windsor Lucky 27 Barbershop.  Come and meet the newest barber in town Michael Lynn.  Come and meet him and you can tell him what kind of Business you have.
X-ALT-DESC;FMTTYPE=text/html:Please attend a RIBBON CUTTING&nbsp\; for Windsor Lucky 27 Barbershop.&nbsp\; Come and meet the newest barber in town Michael Lynn.&nbsp\; Come and meet him and you can tell him what kind of Business you have.
LOCATION:203 4th Street\, Windsor
UID:e.2900.1583
SEQUENCE:3
DTSTAMP:20260423T191559Z
URL:https://business.windsorchamber.net/events/details/windsor-lucky-27-barbershop-ribbon-cutting-1583
END:VEVENT

END:VCALENDAR
