BEGIN:VCALENDAR
VERSION:2.0
PRODID:-//ChamberMaster//Event Calendar 2.0//EN
METHOD:PUBLISH
X-PUBLISHED-TTL:P3D
REFRESH-INTERVAL:P3D
CALSCALE:GREGORIAN
BEGIN:VEVENT
DTSTART:20260418T140000Z
DTEND:20260418T170000Z
X-MICROSOFT-CDO-ALLDAYEVENT:FALSE
SUMMARY:Windsor Polar Plunge Presented by Spectrum & 5K
DESCRIPTION:Get ready for the COOLEST event of the season! Whether you're a daring plunger\, a speedy 5K runner/walker\, or a thrill-seeker ready to do BOTH\, this event promises non-stop excitement. We're splashin' with passion to support over 28\,000 Special Olympics Colorado athletes with intellectual disabilities. Are YOU ready to take the plunge for inclusion? Register and donate today to show your support!
X-ALT-DESC;FMTTYPE=text/html:Get ready for the COOLEST event of the season! Whether you&#39\;re a daring plunger\, a speedy 5K runner/walker\, or a thrill-seeker ready to do BOTH\, this event promises non-stop excitement. We&#39\;re splashin&rsquo\; with passion to support over 28\,000 Special Olympics Colorado athletes with intellectual disabilities. Are YOU ready to take the plunge for inclusion? Register and donate today to show your support!
LOCATION:Boardwalk Park/Windsor Lake Beach 100 North 5th Street Windsor\, CO 80550
UID:e.2900.14673
SEQUENCE:3
DTSTAMP:20260426T041917Z
URL:https://business.windsorchamber.net/events/details/windsor-polar-plunge-presented-by-spectrum-5k-14673
END:VEVENT

END:VCALENDAR
