BEGIN:VCALENDAR
VERSION:2.0
PRODID:-//ChamberMaster//Event Calendar 2.0//EN
METHOD:PUBLISH
X-PUBLISHED-TTL:P3D
REFRESH-INTERVAL:P3D
CALSCALE:GREGORIAN
BEGIN:VEVENT
DTSTART:20180922T233000Z
DTEND:20180923T023000Z
X-MICROSOFT-CDO-ALLDAYEVENT:FALSE
SUMMARY:Windsor Reads Author Event: Peter Heller
DESCRIPTION:Peter Heller is the best-selling author of The Painter\, The Dog Stars\, and Celine. He holds an MFA from the Iowa Writers' Workshop in both fiction and poetry. An award-winning adventure writer and a longtime contributor to NPR\, Heller is a contributing editor at Outside magazine\, Men's Journal\, and National Geographic Adventure\, and a regular contributor to Bloomberg Businessweek. He is also the author of several nonfiction books\, including Kook\, The Whale Warriors\, and Hell or High Water: Surviving Tibet's Tsangpo River. He lives in Denver\, Colorado. .
X-ALT-DESC;FMTTYPE=text/html:Peter Heller is the best-selling author of The Painter\, The Dog Stars\, and Celine. He holds an MFA from the Iowa Writers&#39\; Workshop in both fiction and poetry. An award-winning adventure writer and a longtime contributor to NPR\, Heller is a contributing editor at Outside magazine\, Men&#39\;s Journal\, and National Geographic Adventure\, and a regular contributor to Bloomberg Businessweek. He is also the author of several nonfiction books\, including Kook\, The Whale Warriors\, and Hell or High Water: Surviving Tibet&#39\;s Tsangpo River. He lives in Denver\, Colorado. .
LOCATION:Windsor High School auditorium
UID:e.2900.1514
SEQUENCE:3
DTSTAMP:20260424T040435Z
URL:https://business.windsorchamber.net/events/details/windsor-reads-author-event-peter-heller-1514
END:VEVENT

END:VCALENDAR
