BEGIN:VCALENDAR
VERSION:2.0
PRODID:-//ChamberMaster//Event Calendar 2.0//EN
METHOD:PUBLISH
X-PUBLISHED-TTL:P3D
REFRESH-INTERVAL:P3D
CALSCALE:GREGORIAN
BEGIN:VEVENT
DTSTART;VALUE=DATE:20190227
DTEND;VALUE=DATE:20190228
TRANSP:TRANSPARENT
X-MICROSOFT-CDO-ALLDAYEVENT:TRUE
SUMMARY:Windsor's Recycling Center Opeining
DESCRIPTION:The Town of Windsor sorted materials recycling center originally located at 801 Diamond Valley Dr. is scheduled to re-open at its new location on Wednesday February 27th at the Public Works facility\, 922 N. 15th St.\n\nAs part of the location change\, the Brush yard waste collection site closed and Windsor Water Utility customers have the option of recycling yard waste with businesses such as A1 Organics in Eatonor Hagewman's in Fort Collins to receive a one-time annual reimbursement of up to $10 by turning in a rebate application with proof of residency and purchase.
X-ALT-DESC;FMTTYPE=text/html:The Town of Windsor sorted materials recycling center originally located at 801 Diamond Valley Dr. is scheduled to re-open at its new location on Wednesday February 27th at the Public Works facility\, 922 N. 15th St.<br />\nAs part of the location change\, the Brush yard waste collection site closed and Windsor Water Utility customers have the option of recycling yard waste with businesses such as A1 Organics in Eatonor Hagewman&#39\;s in Fort Collins to receive a one-time annual reimbursement of up to $10 by turning in a rebate application with proof of residency and purchase.
LOCATION:Public Works Facility - 922 N. 15th Street
UID:e.2900.1584
SEQUENCE:3
DTSTAMP:20260423T203717Z
URL:https://business.windsorchamber.net/events/details/windsor-s-recycling-center-opeining-1584
END:VEVENT

END:VCALENDAR
