BEGIN:VCALENDAR
VERSION:2.0
PRODID:-//ChamberMaster//Event Calendar 2.0//EN
METHOD:PUBLISH
X-PUBLISHED-TTL:P3D
REFRESH-INTERVAL:P3D
CALSCALE:GREGORIAN
BEGIN:VEVENT
DTSTART:20190716T230000Z
DTEND:20190717T010000Z
X-MICROSOFT-CDO-ALLDAYEVENT:FALSE
SUMMARY:Windsor State Bank Summer Networking
DESCRIPTION:Join us at Windsor State Bank for their annual Summer Networking Mixer! Featuring wine/beer\, food and prizes. This special evening mixer is right at the corner of Main Street and 11th Avenue. Meet local professionals! \n\n\n\nExpected attendance: 60+\n\n\n\nWant to give a raffle prize? \n\nRegister here and submit your prize info. We will give you 45 seconds at the mic to introduce yourself\, tell us about your company\, talk about your prize and pick the winning business card.
X-ALT-DESC;FMTTYPE=text/html:Join us at Windsor State Bank for their annual Summer Networking Mixer! Featuring wine/beer\, food and prizes. This special evening mixer is right at the corner of Main Street and 11th Avenue. Meet local professionals!&nbsp\;<br />\n<br />\nExpected attendance: 60+<br />\n<br />\n<strong>Want to give a raffle prize? </strong><br />\n<a href="http://windsorchamber.net/events/register/1643">Register here</a> and submit your prize info. We will give you 45 seconds at the mic to introduce yourself\, tell us about your company\, talk about your prize and pick the winning business card.
LOCATION:NW corner of Main and 11th Ave
UID:e.2900.1643
SEQUENCE:3
DTSTAMP:20260423T084512Z
URL:https://business.windsorchamber.net/events/details/windsor-state-bank-summer-networking-1643
END:VEVENT

END:VCALENDAR
