BEGIN:VCALENDAR
VERSION:2.0
PRODID:-//ChamberMaster//Event Calendar 2.0//EN
METHOD:PUBLISH
X-PUBLISHED-TTL:P3D
REFRESH-INTERVAL:P3D
CALSCALE:GREGORIAN
BEGIN:VEVENT
DTSTART:20170705T031000Z
DTEND:20170705T034500Z
X-MICROSOFT-CDO-ALLDAYEVENT:FALSE
SUMMARY:Windsor to celebrate 4th of July at Boardwalk Park
DESCRIPTION:The Town of Windsor is set to hold its annual Fourth of July celebration at Boardwalk Park with a special dog-friendly race\, snack food vendors and a fireworks display.The 4th of July four-legged Fun Run\, a dog-friendly race around Windsor Lake\, will begin at 8am with regisration starting at 7am.  The $20 entry fee includes an exclusive race T-shirt\,pre-register by 8am July 3 for $5 discount.  Fireworks will launch at approximately 9:10pm  Attendees are invited to bring picnic baskets\, lawn chairs and blankets for convenience and comfort.
X-ALT-DESC;FMTTYPE=text/html:The Town of Windsor is set to hold its annual Fourth of July celebration at Boardwalk Park with a special dog-friendly race\, snack food vendors and a fireworks display.The 4th of July four-legged Fun Run\, a dog-friendly race around Windsor Lake\, will begin at 8am with regisration starting at 7am.&nbsp\; The $20 entry fee includes an exclusive race T-shirt\,pre-register by 8am July 3 for $5 discount.&nbsp\; Fireworks will launch at approximately 9:10pm&nbsp\; Attendees are invited to bring picnic baskets\, lawn chairs and blankets for convenience and comfort.<br />\n&nbsp\;
LOCATION:Boardwalk Park - 100 N. 5th Street - PARKING ALONG HIWAY 257 IS ILLEGAL.
UID:e.2900.76
SEQUENCE:3
DTSTAMP:20260424T234959Z
URL:https://business.windsorchamber.net/events/details/windsor-to-celebrate-4th-of-july-at-boardwalk-park-76
END:VEVENT

END:VCALENDAR
