BEGIN:VCALENDAR
VERSION:2.0
PRODID:-//ChamberMaster//Event Calendar 2.0//EN
METHOD:PUBLISH
X-PUBLISHED-TTL:P3D
REFRESH-INTERVAL:P3D
CALSCALE:GREGORIAN
BEGIN:VEVENT
DTSTART:20190223T160000Z
DTEND:20190223T190000Z
X-MICROSOFT-CDO-ALLDAYEVENT:FALSE
SUMMARY:Windsor Tree Symposium
DESCRIPTION:Meet our Windsor Tree Board at the Windsor Tree Symposium!  Homeowners can learn which tree species thrive in Windsor and new species to try.  You also learn how to properly plant and maintain trees.
X-ALT-DESC;FMTTYPE=text/html:Meet our Windsor Tree Board at the Windsor Tree Symposium!&nbsp\; Homeowners can learn which tree species thrive in Windsor and new species to try.&nbsp\; You also learn how to properly plant and maintain trees.
LOCATION:Windsor Community and Rec Center
UID:e.2900.1582
SEQUENCE:3
DTSTAMP:20260423T204122Z
URL:https://business.windsorchamber.net/events/details/windsor-tree-symposium-1582
END:VEVENT

END:VCALENDAR
