BEGIN:VCALENDAR
VERSION:2.0
PRODID:-//ChamberMaster//Event Calendar 2.0//EN
METHOD:PUBLISH
X-PUBLISHED-TTL:P3D
REFRESH-INTERVAL:P3D
CALSCALE:GREGORIAN
BEGIN:VEVENT
DTSTART:20240925T143000Z
DTEND:20240925T153000Z
X-MICROSOFT-CDO-ALLDAYEVENT:FALSE
SUMMARY:Windsor Wake Up- High Point Financial + Team Referral Network
DESCRIPTION:Join us for a morning of networking and coffee! Free to Chamber Members\, courtesy of our host High Point Financial with Team Referral Network
X-ALT-DESC;FMTTYPE=text/html:Join us for a morning of networking and coffee! Free to Chamber Members\, courtesy of our host High Point Financial with Team Referral Network<br />\n<br />\n&nbsp\;
LOCATION:High Point Financial 4650 Royal Vista Cir\, Suite 200 Windsor\, CO 80550
UID:e.2900.12370
SEQUENCE:3
DTSTAMP:20260419T191522Z
URL:https://business.windsorchamber.net/events/details/windsor-wake-up-high-point-financial-team-referral-network-12370
END:VEVENT

END:VCALENDAR
