BEGIN:VCALENDAR
VERSION:2.0
PRODID:-//ChamberMaster//Event Calendar 2.0//EN
METHOD:PUBLISH
X-PUBLISHED-TTL:P3D
REFRESH-INTERVAL:P3D
CALSCALE:GREGORIAN
BEGIN:VEVENT
DTSTART:20210224T183000Z
DTEND:20210224T203000Z
X-MICROSOFT-CDO-ALLDAYEVENT:FALSE
SUMMARY:Women of Windsor Goes Red Luncheon
DESCRIPTION:Heart disease claims the lives of 1 in 3 women   more than all forms of cancer combined.\n\n\n\nJoin us to raise awareness and make a difference. The Women of Windsor is hosting an inaugural WOW Goes RED Luncheon to raise funds for the American Heart Association.\n\n\n\nDate: Wednesday February 24th\n\nTime: 11:30 Am to 1:30 PM\n\nLocation: Cacciatore\, at Heller's Kitchen\, 301 Main Street\, Windsor Co\n\nCost: $30.00
X-ALT-DESC;FMTTYPE=text/html:<br />\n<span style="font-family:arial\,sans-serif\;"><span style="font-size:12.0pt\;">Heart disease claims the lives of 1 in 3 women &ndash\; more than all forms of cancer combined.</span></span><br />\n<br />\n<span style="font-family:arial\,sans-serif\;"><span style="font-size:12.0pt\;">Join us to raise awareness and make a difference. The Women of Windsor is hosting an inaugural WOW Goes RED Luncheon to raise funds for the American Heart Association.</span></span><br />\n<br />\n<strong><span style="font-family:arial\,sans-serif\;"><span style="font-size:12.0pt\;">Date:</span></span></strong><span style="font-family:arial\,sans-serif\;"><span style="font-size:12.0pt\;"> Wednesday February 24<sup>th</sup></span></span><br />\n<strong><span style="font-family:arial\,sans-serif\;"><span style="font-size:12.0pt\;">Time:</span></span></strong><span style="font-family:arial\,sans-serif\;"><span style="font-size:12.0pt\;"> 11:30 Am to 1:30 PM</span></span><br />\n<strong><span style="font-family:arial\,sans-serif\;"><span style="font-size:12.0pt\;">Location:</span></span></strong><span style="font-family:arial\,sans-serif\;"><span style="font-size:12.0pt\;"> Cacciatore\, at Heller&rsquo\;s Kitchen\, 301 Main Street\, Windsor Co</span></span><br />\n<strong><span style="font-family:arial\,sans-serif\;"><span style="font-size:12.0pt\;">Cost:</span></span></strong><span style="font-family:arial\,sans-serif\;"><span style="font-size:12.0pt\;"> $30.00</span></span>
LOCATION:
UID:e.2900.4854
SEQUENCE:3
DTSTAMP:20260422T120427Z
URL:https://business.windsorchamber.net/events/details/women-of-windsor-goes-red-luncheon-4854
END:VEVENT

END:VCALENDAR
