BEGIN:VCALENDAR
VERSION:2.0
PRODID:-//ChamberMaster//Event Calendar 2.0//EN
METHOD:PUBLISH
X-PUBLISHED-TTL:P3D
REFRESH-INTERVAL:P3D
CALSCALE:GREGORIAN
BEGIN:VEVENT
DTSTART:20210428T230000Z
DTEND:20210429T020000Z
X-MICROSOFT-CDO-ALLDAYEVENT:FALSE
SUMMARY:Women of Windsor Mother's Day Fashion Happy Hour
DESCRIPTION:Join Us as we celebrate Mother's Day with a fun Fashion Show featuring our local Boutiques. \n\n\n\nDate: Wednesday April 28th\n\nTime: 5:00 PM to 8:00PM\n\nLocation: American Legion\, 624 Ash Street\, Windsor Co\n\nMember Cost: $30.00\nNon Member: $35.00
X-ALT-DESC;FMTTYPE=text/html:<br />\n<span style="color: rgb(51\, 51\, 51)\; font-size: 13px\; font-family: arial\, sans-serif\;"><span style="font-size: 12pt\;">Join Us as we celebrate Mother&#39\;s Day with a fun Fashion Show featuring our local Boutiques.&nbsp\;</span></span><br style="color: rgb(51\, 51\, 51)\; font-family: sans-serif\, Arial\, Verdana\, &quot\;Trebuchet MS&quot\;\; font-size: 13px\;" />\n<br style="color: rgb(51\, 51\, 51)\; font-family: sans-serif\, Arial\, Verdana\, &quot\;Trebuchet MS&quot\;\; font-size: 13px\;" />\n<strong style="color: rgb(51\, 51\, 51)\; font-family: sans-serif\, Arial\, Verdana\, &quot\;Trebuchet MS&quot\;\; font-size: 13px\;"><span style="font-family: arial\, sans-serif\;"><span style="font-size: 12pt\;">Date:</span></span></strong><span style="color: rgb(51\, 51\, 51)\; font-size: 13px\; font-family: arial\, sans-serif\;"><span style="font-size: 12pt\;">&nbsp\;Wednesday April 28th</span></span><br style="color: rgb(51\, 51\, 51)\; font-family: sans-serif\, Arial\, Verdana\, &quot\;Trebuchet MS&quot\;\; font-size: 13px\;" />\n<strong style="color: rgb(51\, 51\, 51)\; font-family: sans-serif\, Arial\, Verdana\, &quot\;Trebuchet MS&quot\;\; font-size: 13px\;"><span style="font-family: arial\, sans-serif\;"><span style="font-size: 12pt\;">Time:</span></span></strong><span style="color: rgb(51\, 51\, 51)\; font-size: 13px\; font-family: arial\, sans-serif\;"><span style="font-size: 12pt\;">&nbsp\;5:00 PM to 8:00PM</span></span><br style="color: rgb(51\, 51\, 51)\; font-family: sans-serif\, Arial\, Verdana\, &quot\;Trebuchet MS&quot\;\; font-size: 13px\;" />\n<strong style="color: rgb(51\, 51\, 51)\; font-family: sans-serif\, Arial\, Verdana\, &quot\;Trebuchet MS&quot\;\; font-size: 13px\;"><span style="font-family: arial\, sans-serif\;"><span style="font-size: 12pt\;">Location:</span></span></strong><span style="color: rgb(51\, 51\, 51)\; font-size: 13px\; font-family: arial\, sans-serif\;"><span style="font-size: 12pt\;">&nbsp\;American Legion\, 624 Ash Street\, Windsor Co</span></span><br style="color: rgb(51\, 51\, 51)\; font-family: sans-serif\, Arial\, Verdana\, &quot\;Trebuchet MS&quot\;\; font-size: 13px\;" />\n<strong style="color: rgb(51\, 51\, 51)\; font-family: sans-serif\, Arial\, Verdana\, &quot\;Trebuchet MS&quot\;\; font-size: 13px\;"><span style="font-family: arial\, sans-serif\;"><span style="font-size: 12pt\;">Member Cost:</span></span></strong><span style="color: rgb(51\, 51\, 51)\; font-size: 13px\; font-family: arial\, sans-serif\;"><span style="font-size: 12pt\;">&nbsp\;$30.00</span></span>\n<div><span style="color: rgb(51\, 51\, 51)\; font-size: 13px\; font-family: arial\, sans-serif\;"><span style="font-size: 12pt\;"><strong>Non Member: </strong>$35.00</span></span></div>\n
LOCATION:
UID:e.2900.4864
SEQUENCE:3
DTSTAMP:20260422T103304Z
URL:https://business.windsorchamber.net/events/details/women-of-windsor-mother-s-day-fashion-happy-hour-4864
END:VEVENT

END:VCALENDAR
