BEGIN:VCALENDAR
VERSION:2.0
PRODID:-//ChamberMaster//Event Calendar 2.0//EN
METHOD:PUBLISH
X-PUBLISHED-TTL:P3D
REFRESH-INTERVAL:P3D
CALSCALE:GREGORIAN
BEGIN:VEVENT
DTSTART:20190425T140000Z
DTEND:20190425T223000Z
X-MICROSOFT-CDO-ALLDAYEVENT:FALSE
SUMMARY:Wrightslaw Conference
DESCRIPTION:Wrightslaw special education law and advocacy programs help parents understand how they can be effective advocates for their child. This one-day intensive training will go over what your child's rights are to access a free and appropriate public education.
X-ALT-DESC;FMTTYPE=text/html:Wrightslaw special education law and advocacy programs help parents understand how they can be effective advocates for their child. This one-day intensive training will go over what your child&rsquo\;s rights are to access a free and appropriate public education.
LOCATION:Embassy Suites Loveland\, CO
UID:e.2900.1569
SEQUENCE:3
DTSTAMP:20260423T062237Z
URL:https://business.windsorchamber.net/events/details/wrightslaw-conference-1569
END:VEVENT

END:VCALENDAR
