BEGIN:VCALENDAR
VERSION:2.0
PRODID:-//ChamberMaster//Event Calendar 2.0//EN
METHOD:PUBLISH
X-PUBLISHED-TTL:P3D
REFRESH-INTERVAL:P3D
CALSCALE:GREGORIAN
BEGIN:VEVENT
DTSTART:20180714T143000Z
DTEND:20180714T173000Z
X-MICROSOFT-CDO-ALLDAYEVENT:FALSE
SUMMARY:Zumbathon
DESCRIPTION:This family-friendly event features entertainment and activities for all ages. Invite your friends and join our Zumba instructors in the UCHealth Medical Fitness parking lot for a Saturday morning filled with rocking' music and hip shaking' fun! No need to register - just join us! Open to the public.
X-ALT-DESC;FMTTYPE=text/html:This family-friendly event features entertainment and activities for all ages. Invite your friends and join our Zumba instructors in the UCHealth Medical Fitness parking lot for a Saturday morning filled with rocking&rsquo\; music and hip shaking&rsquo\; fun! No need to register - just join us! Open to the public.
LOCATION:UCHealth Medical Fitness 1870 Marina Drive\, Windsor
UID:e.2900.486
SEQUENCE:3
DTSTAMP:20260424T052056Z
URL:https://business.windsorchamber.net/events/details/zumbathon-07-14-2018-486
END:VEVENT

END:VCALENDAR
